BEGIN:VCALENDAR
VERSION:2.0
PRODID:-//eventon.com NONSGML v1.0//EN
BEGIN:VEVENT
UID:69ea743bd7fcf
DTSTAMP:20260423T203419
DTSTART:20260521T193000Z
DTEND:20260521T220000Z
TZID:UTC
LOCATION:Pocklington Arts Centre 22-24 Market Place\,  Pocklington
SUMMARY:Dave Rowntree: No One You Know
DESCRIPTION: For the first time ever\,  Dave Rowntree shares the stories behind Blur’s formative years &#8211; from early friendships in Colchester\,  to embarking on a world tour\,  and famously going head-to-head with Oasis\,  their Britpop rivals. Through unheard stories alongside candid photos from his new book ‘No One You Know’\,  he[..]\nhttp://localsoundfocus.com/events/dave-rowntree-no-one-you-know/
URL:http://localsoundfocus.com/events/dave-rowntree-no-one-you-know/
END:VEVENT
END:VCALENDAR