BEGIN:VCALENDAR
VERSION:2.0
PRODID:-//eventon.com NONSGML v1.0//EN
BEGIN:VEVENT
UID:69ea01ae2a2ae
DTSTAMP:20260423T122534
DTSTART:20260528T200000Z
DTEND:20260528T223000Z
TZID:UTC
LOCATION:Pocklington Arts Centre 22-24 Market Place\,  Pocklington
SUMMARY:John Robb
DESCRIPTION: A familiar face on TV and radio\,  John Robb is also a best selling author\,  musician\,  journalist\,  Louder Than War founder\,  eco champion\,  and singer from post-punk legends The Membranes. He conducted the first Nirvana interview\,  coined the expression ‘Britpop’\,  and was instrumental in documenting the ‘Madchester’ scene with his[..]\nhttp://localsoundfocus.com/events/john-robb/
URL:http://localsoundfocus.com/events/john-robb/
END:VEVENT
END:VCALENDAR